BEGIN:VCALENDAR
VERSION:2.0
PRODID:icalendar-ruby
CALSCALE:GREGORIAN
METHOD:PUBLISH
BEGIN:VEVENT
DTSTAMP:20260421T110457Z
UID:8-198099@rendezvous.church
DTSTART:20260919T163000Z
DTEND:20260919T173000Z
CLASS:PUBLIC
CREATED:20260420T191919
DESCRIPTION:Come Worship with us!
LAST-MODIFIED:20260420T191919
LOCATION:Rendezvous Church
SUMMARY:Worship Service
URL;VALUE=URI:https://rendezvous.church/events/worship-service--8/2026-09-1
 9
END:VEVENT
END:VCALENDAR
