BEGIN:VCALENDAR
VERSION:2.0
PRODID:icalendar-ruby
CALSCALE:GREGORIAN
METHOD:PUBLISH
BEGIN:VEVENT
DTSTAMP:20260421T164441Z
UID:8-198181@rendezvous.church
DTSTART:20261017T163000Z
DTEND:20261017T173000Z
CLASS:PUBLIC
CREATED:20260421T090216
DESCRIPTION:Come Worship with us!
LAST-MODIFIED:20260421T090216
LOCATION:Rendezvous Church
SUMMARY:Worship Service
URL;VALUE=URI:https://rendezvous.church/events/worship-service--8/2026-10-1
 7
END:VEVENT
END:VCALENDAR
