BEGIN:VCALENDAR
VERSION:2.0
PRODID:icalendar-ruby
CALSCALE:GREGORIAN
METHOD:PUBLISH
BEGIN:VEVENT
DTSTAMP:20260421T182246Z
UID:8-198221@rendezvous.church
DTSTART:20261024T163000Z
DTEND:20261024T173000Z
CLASS:PUBLIC
CREATED:20260421T114235
DESCRIPTION:Come Worship with us!
LAST-MODIFIED:20260421T114235
LOCATION:Rendezvous Church
SUMMARY:Worship Service
URL;VALUE=URI:https://rendezvous.church/events/worship-service--8/2026-10-2
 4
END:VEVENT
END:VCALENDAR
